BEGIN:VCALENDAR
VERSION:2.0
PRODID:-//wp-events-plugin.com//7.2.3.1//EN
TZID:Europe/Vienna
X-WR-TIMEZONE:Europe/Vienna
BEGIN:VEVENT
UID:189@videospielen.at
DTSTART;TZID=Europe/Vienna:20170614T150000
DTEND;TZID=Europe/Vienna:20170614T210000
DTSTAMP:20180609T102336Z
URL:https://videospielen.at/events/abschlusspraesentation-gamedesigncamp-2
 017/
SUMMARY:Abschlusspräsentation GameDesignCamp 2017
DESCRIPTION:https://www.facebook.com/events/195620590965024/
LOCATION:Die Angewandte\, Oskar Kokoschka-Platz 2\, Wien\, 1010 \, Österre
 ich
GEO:48.20841290000001;16.38263299999994
X-APPLE-STRUCTURED-LOCATION;VALUE=URI;X-ADDRESS=Oskar Kokoschka-Platz 2\, W
 ien\, 1010 \, Österreich;X-APPLE-RADIUS=100;X-TITLE=Die Angewandte:geo:48
 .20841290000001,16.38263299999994
END:VEVENT
BEGIN:VTIMEZONE
TZID:Europe/Vienna
X-LIC-LOCATION:Europe/Vienna
BEGIN:DAYLIGHT
DTSTART:20170326T030000
TZOFFSETFROM:+0100
TZOFFSETTO:+0200
TZNAME:CEST
END:DAYLIGHT
END:VTIMEZONE
END:VCALENDAR