BEGIN:VCALENDAR
VERSION:2.0
PRODID:-//wp-events-plugin.com//7.2.3.1//EN
TZID:Europe/Vienna
X-WR-TIMEZONE:Europe/Vienna
BEGIN:VEVENT
UID:503@videospielen.at
DTSTART;TZID=Europe/Vienna;VALUE=DATE:20190413
DTEND;TZID=Europe/Vienna;VALUE=DATE:20190415
DTSTAMP:20191101T174417Z
URL:https://videospielen.at/events/acc-masters-of-esports-2019/
SUMMARY:ACC Masters of eSports 2019
DESCRIPTION:austriacomiccon.com
LOCATION:Messe Wels\, Messeplatz 1\, Wels\, 4600\, Österreich
GEO:48.1516202;14.018933300000072
X-APPLE-STRUCTURED-LOCATION;VALUE=URI;X-ADDRESS=Messeplatz 1\, Wels\, 4600\
 , Österreich;X-APPLE-RADIUS=100;X-TITLE=Messe Wels:geo:48.1516202,14.0189
 33300000072
END:VEVENT
BEGIN:VTIMEZONE
TZID:Europe/Vienna
X-LIC-LOCATION:Europe/Vienna
BEGIN:DAYLIGHT
DTSTART:20190331T030000
TZOFFSETFROM:+0100
TZOFFSETTO:+0200
TZNAME:CEST
END:DAYLIGHT
END:VTIMEZONE
END:VCALENDAR