BEGIN:VCALENDAR
VERSION:2.0
PRODID:-//wp-events-plugin.com//7.2.3.1//EN
TZID:Europe/Vienna
X-WR-TIMEZONE:Europe/Vienna
BEGIN:VEVENT
UID:310@videospielen.at
DTSTART;TZID=Europe/Vienna;VALUE=DATE:20180127
DTEND;TZID=Europe/Vienna;VALUE=DATE:20180129
DTSTAMP:20180609T102351Z
URL:https://videospielen.at/events/acsl-gaming-fifa-lol/
SUMMARY:ACSL Gaming | FIFA\, LoL
DESCRIPTION:https://www.facebook.com/events/1983223811942484\n\nhttps://sec
 ure.deskapp.de/shop/acsl/detail/index/sArticle/10/sCategory/50
LOCATION:Elektrotechnik Institut TU Wien\, Gußhausstraße 27-29\, Wien\, 1
 040\, Österreich
GEO:48.19630480000001;16.369741500000032
X-APPLE-STRUCTURED-LOCATION;VALUE=URI;X-ADDRESS=Gußhausstraße 27-29\, Wie
 n\, 1040\, Österreich;X-APPLE-RADIUS=100;X-TITLE=Elektrotechnik Institut 
 TU Wien:geo:48.19630480000001,16.369741500000032
END:VEVENT
BEGIN:VTIMEZONE
TZID:Europe/Vienna
X-LIC-LOCATION:Europe/Vienna
BEGIN:STANDARD
DTSTART:20171029T020000
TZOFFSETFROM:+0200
TZOFFSETTO:+0100
TZNAME:CET
END:STANDARD
END:VTIMEZONE
END:VCALENDAR