BEGIN:VCALENDAR
VERSION:2.0
PRODID:-//wp-events-plugin.com//7.2.3.1//EN
TZID:Europe/Vienna
X-WR-TIMEZONE:Europe/Vienna
BEGIN:VEVENT
UID:768@videospielen.at
DTSTART;TZID=Europe/Vienna:20210911T141500
DTEND;TZID=Europe/Vienna:20210911T154500
DTSTAMP:20210830T185747Z
URL:https://videospielen.at/events/crowd-based-game-development-in-pandemi
 c-times-an-indie-perspective/
SUMMARY:Crowd-based Game Development in Pandemic Times: An Indie Perspectiv
 e
DESCRIPTION:subotron.com/veranstaltung/expanded-animation-21
END:VEVENT
BEGIN:VTIMEZONE
TZID:Europe/Vienna
X-LIC-LOCATION:Europe/Vienna
BEGIN:DAYLIGHT
DTSTART:20210328T030000
TZOFFSETFROM:+0100
TZOFFSETTO:+0200
TZNAME:CEST
END:DAYLIGHT
END:VTIMEZONE
END:VCALENDAR