BEGIN:VCALENDAR
VERSION:2.0
PRODID:-//wp-events-plugin.com//7.2.3.1//EN
TZID:Europe/Vienna
X-WR-TIMEZONE:Europe/Vienna
BEGIN:VEVENT
UID:609@videospielen.at
DTSTART;TZID=Europe/Vienna;VALUE=DATE:20190831
DTEND;TZID=Europe/Vienna;VALUE=DATE:20190902
DTSTAMP:20190729T091059Z
URL:https://videospielen.at/events/esports-graz-kickoff-jarpex-2019/
SUMMARY:ESports Graz Kickoff: Jarpex 2019
DESCRIPTION:smash.gg/tournament/esports-graz-kickoff-jarpex-2019\n\nfaceboo
 k.com/events/914052708933948
LOCATION:Greenbox Zentrum\, Grenadiergasse 14\, Graz\, 8020\, Österreich
GEO:47.0686639;15.430422300000032
X-APPLE-STRUCTURED-LOCATION;VALUE=URI;X-ADDRESS=Grenadiergasse 14\, Graz\, 
 8020\, Österreich;X-APPLE-RADIUS=100;X-TITLE=Greenbox Zentrum:geo:47.0686
 639,15.430422300000032
END:VEVENT
BEGIN:VTIMEZONE
TZID:Europe/Vienna
X-LIC-LOCATION:Europe/Vienna
BEGIN:DAYLIGHT
DTSTART:20190331T030000
TZOFFSETFROM:+0100
TZOFFSETTO:+0200
TZNAME:CEST
END:DAYLIGHT
END:VTIMEZONE
END:VCALENDAR