BEGIN:VCALENDAR
VERSION:2.0
PRODID:-//wp-events-plugin.com//7.2.3.1//EN
TZID:Europe/Vienna
X-WR-TIMEZONE:Europe/Vienna
BEGIN:VEVENT
UID:381@videospielen.at
DTSTART;TZID=Europe/Vienna:20180612T193000
DTEND;TZID=Europe/Vienna:20180612T230000
DTSTAMP:20180609T102408Z
URL:https://videospielen.at/events/fgc-bar-night-2/
SUMMARY:FGC Bar Night # 2
DESCRIPTION:facebook.com/events/439730893140980
LOCATION:Schutzhaus Ottakring\, Steinlegasse 15\, Wien\, 1160\, Österreich
X-APPLE-STRUCTURED-LOCATION;VALUE=URI;X-ADDRESS=Steinlegasse 15\, Wien\, 11
 60\, Österreich;X-APPLE-RADIUS=100;X-TITLE=Schutzhaus Ottakring:geo:0,0
END:VEVENT
BEGIN:VTIMEZONE
TZID:Europe/Vienna
X-LIC-LOCATION:Europe/Vienna
BEGIN:DAYLIGHT
DTSTART:20180325T030000
TZOFFSETFROM:+0100
TZOFFSETTO:+0200
TZNAME:CEST
END:DAYLIGHT
END:VTIMEZONE
END:VCALENDAR