BEGIN:VCALENDAR
VERSION:2.0
PRODID:-//wp-events-plugin.com//7.2.3.1//EN
TZID:Europe/Vienna
X-WR-TIMEZONE:Europe/Vienna
BEGIN:VEVENT
UID:708@videospielen.at
DTSTART;TZID=Europe/Vienna:20200701T180000
DTEND;TZID=Europe/Vienna:20200701T230000
DTSTAMP:20200625T195558Z
URL:https://videospielen.at/events/fgc-bar-night-im-pinchos/
SUMMARY:FGC Bar Night im Pinchos
DESCRIPTION:facebook.com/events/721803878645750
LOCATION:Pinchosbar\, Josefstädter Straße 29\, Wien\, 1080\, Österreich
X-APPLE-STRUCTURED-LOCATION;VALUE=URI;X-ADDRESS=Josefstädter Straße 29\, 
 Wien\, 1080\, Österreich;X-APPLE-RADIUS=100;X-TITLE=Pinchosbar:geo:0,0
END:VEVENT
BEGIN:VTIMEZONE
TZID:Europe/Vienna
X-LIC-LOCATION:Europe/Vienna
BEGIN:DAYLIGHT
DTSTART:20200329T030000
TZOFFSETFROM:+0100
TZOFFSETTO:+0200
TZNAME:CEST
END:DAYLIGHT
END:VTIMEZONE
END:VCALENDAR