BEGIN:VCALENDAR
VERSION:2.0
PRODID:-//wp-events-plugin.com//7.2.3.1//EN
TZID:Europe/Vienna
X-WR-TIMEZONE:Europe/Vienna
BEGIN:VEVENT
UID:24@videospielen.at
DTSTART;TZID=Europe/Vienna;VALUE=DATE:20170428
DTEND;TZID=Europe/Vienna;VALUE=DATE:20170501
DTSTAMP:20180609T102335Z
URL:https://videospielen.at/events/gailtal-lan-2017/
SUMMARY:Gailtal LAN 2017
DESCRIPTION:https://www.gailtal-lan.at
LOCATION:Veranstaltungssaal Kirchbach\, Kirchbach 155\, Kirchbach\, 9632\, 
 Österreich
GEO:46.6407401;13.187793300000067
X-APPLE-STRUCTURED-LOCATION;VALUE=URI;X-ADDRESS=Kirchbach 155\, Kirchbach\,
  9632\, Österreich;X-APPLE-RADIUS=100;X-TITLE=Veranstaltungssaal Kirchbac
 h:geo:46.6407401,13.187793300000067
END:VEVENT
BEGIN:VTIMEZONE
TZID:Europe/Vienna
X-LIC-LOCATION:Europe/Vienna
BEGIN:DAYLIGHT
DTSTART:20170326T030000
TZOFFSETFROM:+0100
TZOFFSETTO:+0200
TZNAME:CEST
END:DAYLIGHT
END:VTIMEZONE
END:VCALENDAR