BEGIN:VCALENDAR
VERSION:2.0
PRODID:-//wp-events-plugin.com//7.2.3.1//EN
TZID:Europe/Vienna
X-WR-TIMEZONE:Europe/Vienna
BEGIN:VEVENT
UID:630@videospielen.at
DTSTART;TZID=Europe/Vienna;VALUE=DATE:20190926
DTEND;TZID=Europe/Vienna;VALUE=DATE:20191005
DTSTAMP:20190914T103321Z
URL:https://videospielen.at/events/game-and-graphic-design-lab-at-vienna-d
 esign-week/
SUMMARY:Game and Graphic Design Lab at Vienna Design Week
DESCRIPTION:subotron.com/veranstaltung/vdw-lab\n\nfacebook.com/events/51850
 3898911651
LOCATION:Vienna Design Week - Festivalzentrale im Althan Quartier\, Julius-
 Tandler-Platz 3\, Wien\, 1090\, Österreich
X-APPLE-STRUCTURED-LOCATION;VALUE=URI;X-ADDRESS=Julius-Tandler-Platz 3\, Wi
 en\, 1090\, Österreich;X-APPLE-RADIUS=100;X-TITLE=Vienna Design Week - Fe
 stivalzentrale im Althan Quartier:geo:0,0
END:VEVENT
BEGIN:VTIMEZONE
TZID:Europe/Vienna
X-LIC-LOCATION:Europe/Vienna
BEGIN:DAYLIGHT
DTSTART:20190331T030000
TZOFFSETFROM:+0100
TZOFFSETTO:+0200
TZNAME:CEST
END:DAYLIGHT
END:VTIMEZONE
END:VCALENDAR