BEGIN:VCALENDAR
VERSION:2.0
PRODID:-//wp-events-plugin.com//7.2.3.1//EN
TZID:Europe/Vienna
X-WR-TIMEZONE:Europe/Vienna
BEGIN:VEVENT
UID:133@videospielen.at
DTSTART;TZID=Europe/Vienna;VALUE=DATE:20160827
DTEND;TZID=Europe/Vienna;VALUE=DATE:20160829
DTSTAMP:20180609T101833Z
URL:https://videospielen.at/events/game-dev-days-graz-2016/
SUMMARY:Game Dev Days Graz 2016
DESCRIPTION:http://gddg.gamedevgraz.at/
LOCATION:TU Graz\, Inffeldgasse 25d\, Graz\, 8010\, Österreich
GEO:47.0581841;15.460599900000034
X-APPLE-STRUCTURED-LOCATION;VALUE=URI;X-ADDRESS=Inffeldgasse 25d\, Graz\, 8
 010\, Österreich;X-APPLE-RADIUS=100;X-TITLE=TU Graz:geo:47.0581841,15.460
 599900000034
END:VEVENT
BEGIN:VTIMEZONE
TZID:Europe/Vienna
X-LIC-LOCATION:Europe/Vienna
BEGIN:DAYLIGHT
DTSTART:20160327T030000
TZOFFSETFROM:+0100
TZOFFSETTO:+0200
TZNAME:CEST
END:DAYLIGHT
END:VTIMEZONE
END:VCALENDAR