BEGIN:VCALENDAR
VERSION:2.0
PRODID:-//wp-events-plugin.com//7.2.3.1//EN
TZID:Europe/Vienna
X-WR-TIMEZONE:Europe/Vienna
BEGIN:VEVENT
UID:423@videospielen.at
DTSTART;TZID=Europe/Vienna:20180903T183000
DTEND;TZID=Europe/Vienna:20180903T223000
DTSTAMP:20180901T091826Z
URL:https://videospielen.at/events/game-on-the-contribution-of-vr-to-video
 -games-and-game-like-experiences/
SUMMARY:Game on! – The contribution of VR to video games and game-like ex
 periences
DESCRIPTION:meetup.com/VRVienna/events/253870177/
LOCATION:Vrei\, Lindengasse 53\, Wien\, 1070\, Österreich
GEO:48.1994846;16.346686200000022
X-APPLE-STRUCTURED-LOCATION;VALUE=URI;X-ADDRESS=Lindengasse 53\, Wien\, 107
 0\, Österreich;X-APPLE-RADIUS=100;X-TITLE=Vrei:geo:48.1994846,16.34668620
 0000022
END:VEVENT
BEGIN:VTIMEZONE
TZID:Europe/Vienna
X-LIC-LOCATION:Europe/Vienna
BEGIN:DAYLIGHT
DTSTART:20180325T030000
TZOFFSETFROM:+0100
TZOFFSETTO:+0200
TZNAME:CEST
END:DAYLIGHT
END:VTIMEZONE
END:VCALENDAR