BEGIN:VCALENDAR
VERSION:2.0
PRODID:-//wp-events-plugin.com//7.2.3.1//EN
TZID:Europe/Vienna
X-WR-TIMEZONE:Europe/Vienna
BEGIN:VEVENT
UID:657@videospielen.at
DTSTART;TZID=Europe/Vienna:20191214T090000
DTEND;TZID=Europe/Vienna:20191215T213000
DTSTAMP:20191123T102915Z
URL:https://videospielen.at/events/hagenberg-game-jam-2019/
SUMMARY:Hagenberg Game Jam 2019
DESCRIPTION:facebook.com/events/815827332183073
LOCATION:FH Oberösterreich - Campus Hagenberg\, Softwarepark 11\, Hagenber
 g\,  4232\, Österreich
GEO:48.3683622;14.514425899999992
X-APPLE-STRUCTURED-LOCATION;VALUE=URI;X-ADDRESS=Softwarepark 11\, Hagenberg
 \,  4232\, Österreich;X-APPLE-RADIUS=100;X-TITLE=FH Oberösterreich - Cam
 pus Hagenberg:geo:48.3683622,14.514425899999992
END:VEVENT
BEGIN:VTIMEZONE
TZID:Europe/Vienna
X-LIC-LOCATION:Europe/Vienna
BEGIN:STANDARD
DTSTART:20191027T020000
TZOFFSETFROM:+0200
TZOFFSETTO:+0100
TZNAME:CET
END:STANDARD
END:VTIMEZONE
END:VCALENDAR