BEGIN:VCALENDAR
VERSION:2.0
PRODID:-//wp-events-plugin.com//7.2.3.1//EN
TZID:Europe/Vienna
X-WR-TIMEZONE:Europe/Vienna
BEGIN:VEVENT
UID:601@videospielen.at
DTSTART;TZID=Europe/Vienna;VALUE=DATE:20191004
DTEND;TZID=Europe/Vienna;VALUE=DATE:20191006
DTSTAMP:20190709T092322Z
URL:https://videospielen.at/events/hybrid-board-games/
SUMMARY:Hybrid Board Games
DESCRIPTION:www.frogvienna.at/#polliwog\,-klagenfurt-4-5/10/2019
LOCATION:Alpen-Adria-Universität Klagenfurt/Lakeside Park\, Lakeside Park 
 B12\, Klagenfurt\, 9020\, Österreich
X-APPLE-STRUCTURED-LOCATION;VALUE=URI;X-ADDRESS=Lakeside Park B12\, Klagenf
 urt\, 9020\, Österreich;X-APPLE-RADIUS=100;X-TITLE=Alpen-Adria-Universit
 ät Klagenfurt/Lakeside Park:geo:0,0
END:VEVENT
BEGIN:VTIMEZONE
TZID:Europe/Vienna
X-LIC-LOCATION:Europe/Vienna
BEGIN:DAYLIGHT
DTSTART:20190331T030000
TZOFFSETFROM:+0100
TZOFFSETTO:+0200
TZNAME:CEST
END:DAYLIGHT
END:VTIMEZONE
END:VCALENDAR