BEGIN:VCALENDAR
VERSION:2.0
PRODID:-//wp-events-plugin.com//7.2.3.1//EN
TZID:Europe/Vienna
X-WR-TIMEZONE:Europe/Vienna
BEGIN:VEVENT
UID:221@videospielen.at
DTSTART;TZID=Europe/Vienna:20171115T200000
DTEND;TZID=Europe/Vienna:20171115T223000
DTSTAMP:20181129T185437Z
URL:https://videospielen.at/events/indie-game-meetup-november-2017/
SUMMARY:Indie Game Meetup\, November 2017
DESCRIPTION:http://gamedevgraz.at/events/
LOCATION:Spektral\, Lendkai 45 \, Graz\, 8020\, Österreich
GEO:47.0754427;15.43313360000002
X-APPLE-STRUCTURED-LOCATION;VALUE=URI;X-ADDRESS=Lendkai 45 \, Graz\, 8020\,
  Österreich;X-APPLE-RADIUS=100;X-TITLE=Spektral:geo:47.0754427,15.4331336
 0000002
END:VEVENT
BEGIN:VTIMEZONE
TZID:Europe/Vienna
X-LIC-LOCATION:Europe/Vienna
BEGIN:STANDARD
DTSTART:20171029T020000
TZOFFSETFROM:+0200
TZOFFSETTO:+0100
TZNAME:CET
END:STANDARD
END:VTIMEZONE
END:VCALENDAR