BEGIN:VCALENDAR
VERSION:2.0
PRODID:-//wp-events-plugin.com//7.2.3.1//EN
TZID:Europe/Vienna
X-WR-TIMEZONE:Europe/Vienna
BEGIN:VEVENT
UID:390@videospielen.at
DTSTART;TZID=Europe/Vienna;VALUE=DATE:20180831
DTEND;TZID=Europe/Vienna;VALUE=DATE:20180903
DTSTAMP:20180609T102408Z
URL:https://videospielen.at/events/labs-at-schmiede18-jamisland/
SUMMARY:Labs at Schmiede18: JamIsland
DESCRIPTION:schmiede.tumblr.com/post/174235377297/labs-at-schmiede18-jamisl
 and?is_related_post=1
LOCATION:SchmiedeY\, Pernerinsel\, Hallein\, Österreich
GEO:47.6849575;13.09184270000003
X-APPLE-STRUCTURED-LOCATION;VALUE=URI;X-ADDRESS=Pernerinsel\, Hallein\, Ös
 terreich;X-APPLE-RADIUS=100;X-TITLE=SchmiedeY:geo:47.6849575,13.0918427000
 0003
END:VEVENT
BEGIN:VTIMEZONE
TZID:Europe/Vienna
X-LIC-LOCATION:Europe/Vienna
BEGIN:DAYLIGHT
DTSTART:20180325T030000
TZOFFSETFROM:+0100
TZOFFSETTO:+0200
TZNAME:CEST
END:DAYLIGHT
END:VTIMEZONE
END:VCALENDAR