BEGIN:VCALENDAR
VERSION:2.0
PRODID:-//wp-events-plugin.com//7.2.3.1//EN
TZID:Europe/Vienna
X-WR-TIMEZONE:Europe/Vienna
BEGIN:VEVENT
UID:428@videospielen.at
DTSTART;TZID=Europe/Vienna:20180928T180000
DTEND;TZID=Europe/Vienna:20180928T230000
DTSTAMP:20180912T201533Z
URL:https://videospielen.at/events/ludecat-7/
SUMMARY:LudeCat #7
DESCRIPTION:facebook.com/events/265976390691204
LOCATION:Fachhochschule Salzburg\, Campus Urstein Süd 1\, Puch/Salzburg\, 
 5412\, Österreich
GEO:47.7229439;13.087769500000036
X-APPLE-STRUCTURED-LOCATION;VALUE=URI;X-ADDRESS=Campus Urstein Süd 1\, Puc
 h/Salzburg\, 5412\, Österreich;X-APPLE-RADIUS=100;X-TITLE=Fachhochschule 
 Salzburg:geo:47.7229439,13.087769500000036
END:VEVENT
BEGIN:VTIMEZONE
TZID:Europe/Vienna
X-LIC-LOCATION:Europe/Vienna
BEGIN:DAYLIGHT
DTSTART:20180325T030000
TZOFFSETFROM:+0100
TZOFFSETTO:+0200
TZNAME:CEST
END:DAYLIGHT
END:VTIMEZONE
END:VCALENDAR