BEGIN:VCALENDAR
VERSION:2.0
PRODID:-//wp-events-plugin.com//7.2.3.1//EN
TZID:Europe/Vienna
X-WR-TIMEZONE:Europe/Vienna
BEGIN:VEVENT
UID:316@videospielen.at
DTSTART;TZID=Europe/Vienna:20180210T230000
DTEND;TZID=Europe/Vienna:20180211T043000
DTSTAMP:20180609T102351Z
URL:https://videospielen.at/events/nintendoo-maskerade/
SUMMARY:NintendoO Maskerade
DESCRIPTION:https://www.facebook.com/events/1646499545389141/
LOCATION:Postgarage\, Dreihackengasse 42\, Graz\, 8020\, Österreich
GEO:47.0660681;15.428257600000052
X-APPLE-STRUCTURED-LOCATION;VALUE=URI;X-ADDRESS=Dreihackengasse 42\, Graz\,
  8020\, Österreich;X-APPLE-RADIUS=100;X-TITLE=Postgarage:geo:47.0660681,1
 5.428257600000052
END:VEVENT
BEGIN:VTIMEZONE
TZID:Europe/Vienna
X-LIC-LOCATION:Europe/Vienna
BEGIN:STANDARD
DTSTART:20171029T020000
TZOFFSETFROM:+0200
TZOFFSETTO:+0100
TZNAME:CET
END:STANDARD
END:VTIMEZONE
END:VCALENDAR