BEGIN:VCALENDAR
VERSION:2.0
PRODID:-//wp-events-plugin.com//7.2.3.1//EN
TZID:Europe/Vienna
X-WR-TIMEZONE:Europe/Vienna
BEGIN:VEVENT
UID:229@videospielen.at
DTSTART;TZID=Europe/Vienna:20171118T140000
DTEND;TZID=Europe/Vienna:20171118T160000
DTSTAMP:20180609T102350Z
URL:https://videospielen.at/events/podiumsdiskussion-level-up-videospiele-
 in-der-bildenden-kunst/
SUMMARY:Podiumsdiskussion: Level Up: Videospiele in der bildenden Kunst
DESCRIPTION:http://2017.viennaartweek.at/de/program/podiumsdiskussion-level
 -up-videospiele-in-der-bildenden-kunst
LOCATION:Hollerei Galerie\, Hollergasse 12\, Wien\, 1150\, Österreich
GEO:48.18566879999999;16.325081100000034
X-APPLE-STRUCTURED-LOCATION;VALUE=URI;X-ADDRESS=Hollergasse 12\, Wien\, 115
 0\, Österreich;X-APPLE-RADIUS=100;X-TITLE=Hollerei Galerie:geo:48.1856687
 9999999,16.325081100000034
END:VEVENT
BEGIN:VTIMEZONE
TZID:Europe/Vienna
X-LIC-LOCATION:Europe/Vienna
BEGIN:STANDARD
DTSTART:20171029T020000
TZOFFSETFROM:+0200
TZOFFSETTO:+0100
TZNAME:CET
END:STANDARD
END:VTIMEZONE
END:VCALENDAR