BEGIN:VCALENDAR
VERSION:2.0
PRODID:-//wp-events-plugin.com//7.2.3.1//EN
TZID:Europe/Vienna
X-WR-TIMEZONE:Europe/Vienna
BEGIN:VEVENT
UID:629@videospielen.at
DTSTART;TZID=Europe/Vienna;VALUE=DATE:20190927
DTEND;TZID=Europe/Vienna;VALUE=DATE:20191007
DTSTAMP:20190914T103013Z
URL:https://videospielen.at/events/press-start-interactive-exhibition-of-a
 ustrian-games/
SUMMARY:PRESS START – Interactive Exhibition of Austrian Games
DESCRIPTION:subotron.com/veranstaltung/vdw-exhibition\n\nfacebook.com/event
 s/682858182193580\n\n27.9. / 11:00 - 20:00\n28.9. / 11:00 - 22:00\n29.9.
 –4.10. / 11:00 – 20:00\n5.10. / 11:00 - 22:00\n6.10. / 11:00 – 20:00
LOCATION:Vienna Design Week - Festivalzentrale im Althan Quartier\, Julius-
 Tandler-Platz 3\, Wien\, 1090\, Österreich
X-APPLE-STRUCTURED-LOCATION;VALUE=URI;X-ADDRESS=Julius-Tandler-Platz 3\, Wi
 en\, 1090\, Österreich;X-APPLE-RADIUS=100;X-TITLE=Vienna Design Week - Fe
 stivalzentrale im Althan Quartier:geo:0,0
END:VEVENT
BEGIN:VTIMEZONE
TZID:Europe/Vienna
X-LIC-LOCATION:Europe/Vienna
BEGIN:DAYLIGHT
DTSTART:20190331T030000
TZOFFSETFROM:+0100
TZOFFSETTO:+0200
TZNAME:CEST
END:DAYLIGHT
END:VTIMEZONE
END:VCALENDAR