BEGIN:VCALENDAR
VERSION:2.0
PRODID:-//wp-events-plugin.com//7.2.3.1//EN
TZID:Europe/Vienna
X-WR-TIMEZONE:Europe/Vienna
BEGIN:VEVENT
UID:874@videospielen.at
DTSTART;TZID=Europe/Vienna;VALUE=DATE:20240615
DTEND;TZID=Europe/Vienna;VALUE=DATE:20240617
DTSTAMP:20240504T110825Z
URL:https://videospielen.at/events/spielefest-wien-2024/
SUMMARY:Spielefest Wien 2024
DESCRIPTION:spielefest.wien
LOCATION:Austria Center Vienna\, Bruno-Kreisky-Platz 1\, Wien\, 1220\, Öst
 erreich
X-APPLE-STRUCTURED-LOCATION;VALUE=URI;X-ADDRESS=Bruno-Kreisky-Platz 1\, Wie
 n\, 1220\, Österreich;X-APPLE-RADIUS=100;X-TITLE=Austria Center Vienna:ge
 o:0,0
END:VEVENT
BEGIN:VTIMEZONE
TZID:Europe/Vienna
X-LIC-LOCATION:Europe/Vienna
BEGIN:DAYLIGHT
DTSTART:20240331T030000
TZOFFSETFROM:+0100
TZOFFSETTO:+0200
TZNAME:CEST
END:DAYLIGHT
END:VTIMEZONE
END:VCALENDAR