BEGIN:VCALENDAR
VERSION:2.0
PRODID:-//wp-events-plugin.com//7.2.3.1//EN
TZID:Europe/Vienna
X-WR-TIMEZONE:Europe/Vienna
BEGIN:VEVENT
UID:875@videospielen.at
DTSTART;TZID=Europe/Vienna:20241122T160000
DTEND;TZID=Europe/Vienna:20241122T210000
DTSTAMP:20240508T191409Z
URL:https://videospielen.at/events/subotron-live-pitch-competition-of-aust
 rian-student-projects-2024/
SUMMARY:SUBOTRON Live Pitch Competition of Austrian Student Projects 2024
DESCRIPTION:subotron.com/event/live-pitch-competition-2024
LOCATION:Studio Experimental Game Cultures - Raum 151/152\, Georg-Coch-Plat
 z 2\, Wien\, 1010\, Österreich
X-APPLE-STRUCTURED-LOCATION;VALUE=URI;X-ADDRESS=Georg-Coch-Platz 2\, Wien\,
  1010\, Österreich;X-APPLE-RADIUS=100;X-TITLE=Studio Experimental Game Cu
 ltures - Raum 151/152:geo:0,0
END:VEVENT
BEGIN:VTIMEZONE
TZID:Europe/Vienna
X-LIC-LOCATION:Europe/Vienna
BEGIN:STANDARD
DTSTART:20241027T020000
TZOFFSETFROM:+0200
TZOFFSETTO:+0100
TZNAME:CET
END:STANDARD
END:VTIMEZONE
END:VCALENDAR