BEGIN:VCALENDAR
VERSION:2.0
PRODID:-//wp-events-plugin.com//7.2.3.1//EN
TZID:Europe/Vienna
X-WR-TIMEZONE:Europe/Vienna
BEGIN:VEVENT
UID:741@videospielen.at
DTSTART;TZID=Europe/Vienna:20210218T190000
DTEND;TZID=Europe/Vienna:20210218T210000
DTSTAMP:20210203T161542Z
URL:https://videospielen.at/events/the-game-art-of-punk-business-in-memori
 am-robert-praxmarer/
SUMMARY:The Game Art of Punk Business (In Memoriam Robert Praxmarer)
DESCRIPTION:subotron.com/veranstaltung/praxmarer
END:VEVENT
BEGIN:VTIMEZONE
TZID:Europe/Vienna
X-LIC-LOCATION:Europe/Vienna
BEGIN:STANDARD
DTSTART:20201025T020000
TZOFFSETFROM:+0200
TZOFFSETTO:+0100
TZNAME:CET
END:STANDARD
END:VTIMEZONE
END:VCALENDAR