BEGIN:VCALENDAR
VERSION:2.0
PRODID:-//wp-events-plugin.com//7.2.3.1//EN
TZID:Europe/Vienna
X-WR-TIMEZONE:Europe/Vienna
BEGIN:VEVENT
UID:694@videospielen.at
DTSTART;TZID=Europe/Vienna:20200213T183000
DTEND;TZID=Europe/Vienna:20200213T203000
DTSTAMP:20200128T190602Z
URL:https://videospielen.at/events/unity-blender-community-meetup/
SUMMARY:Unity & Blender Community Meetup
DESCRIPTION:meetup.com/Unity-Meetup-Vienna/events/264521669
LOCATION:Humai Technologies GmbH\, Dresdner Straße 91\, Wien\, 1200\, Öst
 erreich
X-APPLE-STRUCTURED-LOCATION;VALUE=URI;X-ADDRESS=Dresdner Straße 91\, Wien\
 , 1200\, Österreich;X-APPLE-RADIUS=100;X-TITLE=Humai Technologies GmbH:ge
 o:0,0
END:VEVENT
BEGIN:VTIMEZONE
TZID:Europe/Vienna
X-LIC-LOCATION:Europe/Vienna
BEGIN:STANDARD
DTSTART:20191027T020000
TZOFFSETFROM:+0200
TZOFFSETTO:+0100
TZNAME:CET
END:STANDARD
END:VTIMEZONE
END:VCALENDAR