BEGIN:VCALENDAR
VERSION:2.0
PRODID:-//wp-events-plugin.com//7.2.3.1//EN
TZID:Europe/Vienna
X-WR-TIMEZONE:Europe/Vienna
BEGIN:VEVENT
UID:684@videospielen.at
DTSTART;TZID=Europe/Vienna:20200218T183000
DTEND;TZID=Europe/Vienna:20200218T203000
DTSTAMP:20200111T084305Z
URL:https://videospielen.at/events/vienna-game-tech-meetup-2/
SUMMARY:Vienna Game Tech Meetup #2
DESCRIPTION:meetup.com/Vienna-Gametech-Meetup/events/267804126
LOCATION:Das Stockwerk\, Pater-Schwartz-Gasse 11A\, Wien\, 1150 \, Österre
 ich
GEO:48.1920067;16.335951300000033
X-APPLE-STRUCTURED-LOCATION;VALUE=URI;X-ADDRESS=Pater-Schwartz-Gasse 11A\, 
 Wien\, 1150 \, Österreich;X-APPLE-RADIUS=100;X-TITLE=Das Stockwerk:geo:48
 .1920067,16.335951300000033
END:VEVENT
BEGIN:VTIMEZONE
TZID:Europe/Vienna
X-LIC-LOCATION:Europe/Vienna
BEGIN:STANDARD
DTSTART:20191027T020000
TZOFFSETFROM:+0200
TZOFFSETTO:+0100
TZNAME:CET
END:STANDARD
END:VTIMEZONE
END:VCALENDAR