BEGIN:VCALENDAR
VERSION:2.0
PRODID:-//wp-events-plugin.com//7.2.3.1//EN
TZID:Europe/Vienna
X-WR-TIMEZONE:Europe/Vienna
BEGIN:VEVENT
UID:925@videospielen.at
DTSTART;TZID=Europe/Vienna:20260414T190000
DTEND;TZID=Europe/Vienna:20260414T220000
DTSTAMP:20260321T132306Z
URL:https://videospielen.at/events/vienna-gamedev-meetup-97/
SUMMARY:Vienna Gamedev Meetup #97
DESCRIPTION:meetup.com/vienna-game-dev-meetup/events/313818520/
LOCATION:Das Packhaus\, Marxergasse 24\, Wien\, 1030\, Österreich
X-APPLE-STRUCTURED-LOCATION;VALUE=URI;X-ADDRESS=Marxergasse 24\, Wien\, 103
 0\, Österreich;X-APPLE-RADIUS=100;X-TITLE=Das Packhaus:geo:0,0
END:VEVENT
BEGIN:VTIMEZONE
TZID:Europe/Vienna
X-LIC-LOCATION:Europe/Vienna
BEGIN:DAYLIGHT
DTSTART:20260329T030000
TZOFFSETFROM:+0100
TZOFFSETTO:+0200
TZNAME:CEST
END:DAYLIGHT
END:VTIMEZONE
END:VCALENDAR