BEGIN:VCALENDAR
VERSION:2.0
PRODID:-//wp-events-plugin.com//7.2.3.1//EN
TZID:Europe/Vienna
X-WR-TIMEZONE:Europe/Vienna
BEGIN:VEVENT
UID:199@videospielen.at
DTSTART;TZID=Europe/Vienna:20170804T170000
DTEND;TZID=Europe/Vienna:20170805T020000
DTSTAMP:20180609T102336Z
URL:https://videospielen.at/events/viennality-preparty/
SUMMARY:Viennality PreParty
DESCRIPTION:https://www.facebook.com/events/1114228858676718/
LOCATION:Respawn\, Döblinger Gürtel 185\, Wien\, 1190\, Österreich
GEO:48.23253039999999;16.354640399999994
X-APPLE-STRUCTURED-LOCATION;VALUE=URI;X-ADDRESS=Döblinger Gürtel 185\, Wi
 en\, 1190\, Österreich;X-APPLE-RADIUS=100;X-TITLE=Respawn:geo:48.23253039
 999999,16.354640399999994
END:VEVENT
BEGIN:VTIMEZONE
TZID:Europe/Vienna
X-LIC-LOCATION:Europe/Vienna
BEGIN:DAYLIGHT
DTSTART:20170326T030000
TZOFFSETFROM:+0100
TZOFFSETTO:+0200
TZNAME:CEST
END:DAYLIGHT
END:VTIMEZONE
END:VCALENDAR