BEGIN:VCALENDAR
VERSION:2.0
PRODID:-//wp-events-plugin.com//7.2.3.1//EN
TZID:Europe/Vienna
X-WR-TIMEZONE:Europe/Vienna
BEGIN:VEVENT
UID:569@videospielen.at
DTSTART;TZID=Europe/Vienna:20190523T180000
DTEND;TZID=Europe/Vienna:20190523T200000
DTSTAMP:20190522T070017Z
URL:https://videospielen.at/events/we-are-so-playing/
SUMMARY:WE ARE SO playing
DESCRIPTION:facebook.com/events/2359005164424612\n\ntabakfabrik-linz.at/eve
 nts/we-are-so-playing
LOCATION:Strada del Startup / Tabakfabrik Linz\, Peter-Behrens-Platz 9-10\,
  Linz\, 4020\, Österreich
X-APPLE-STRUCTURED-LOCATION;VALUE=URI;X-ADDRESS=Peter-Behrens-Platz 9-10\, 
 Linz\, 4020\, Österreich;X-APPLE-RADIUS=100;X-TITLE=Strada del Startup / 
 Tabakfabrik Linz:geo:0,0
END:VEVENT
BEGIN:VTIMEZONE
TZID:Europe/Vienna
X-LIC-LOCATION:Europe/Vienna
BEGIN:DAYLIGHT
DTSTART:20190331T030000
TZOFFSETFROM:+0100
TZOFFSETTO:+0200
TZNAME:CEST
END:DAYLIGHT
END:VTIMEZONE
END:VCALENDAR