BEGIN:VCALENDAR
VERSION:2.0
PRODID:-//wp-events-plugin.com//7.2.3.1//EN
TZID:Europe/Vienna
X-WR-TIMEZONE:Europe/Vienna
BEGIN:VEVENT
UID:153@videospielen.at
DTSTART;TZID=Europe/Vienna:20161112T170000
DTEND;TZID=Europe/Vienna:20161112T235500
DTSTAMP:20180609T101834Z
URL:https://videospielen.at/events/zamspielen-12/
SUMMARY:ZamSpielen #12
DESCRIPTION:https://www.facebook.com/events/321627238217338/
LOCATION:Schaustelle\, Margaretenstraße 106\, Wien\, 1050\, Österreich
GEO:48.18928469999999;16.355126799999994
X-APPLE-STRUCTURED-LOCATION;VALUE=URI;X-ADDRESS=Margaretenstraße 106\, Wie
 n\, 1050\, Österreich;X-APPLE-RADIUS=100;X-TITLE=Schaustelle:geo:48.18928
 469999999,16.355126799999994
END:VEVENT
BEGIN:VTIMEZONE
TZID:Europe/Vienna
X-LIC-LOCATION:Europe/Vienna
BEGIN:STANDARD
DTSTART:20161030T020000
TZOFFSETFROM:+0200
TZOFFSETTO:+0100
TZNAME:CET
END:STANDARD
END:VTIMEZONE
END:VCALENDAR